BEGIN:VCALENDAR
VERSION:2.0
PRODID:-//Friedrich-Bayer-Realschule - ECPv6.15.20//NONSGML v1.0//EN
CALSCALE:GREGORIAN
METHOD:PUBLISH
X-ORIGINAL-URL:https://fbrs.de
X-WR-CALDESC:Veranstaltungen für Friedrich-Bayer-Realschule
REFRESH-INTERVAL;VALUE=DURATION:PT1H
X-Robots-Tag:noindex
X-PUBLISHED-TTL:PT1H
BEGIN:VTIMEZONE
TZID:Europe/Berlin
BEGIN:DAYLIGHT
TZOFFSETFROM:+0100
TZOFFSETTO:+0200
TZNAME:CEST
DTSTART:20250330T010000
END:DAYLIGHT
BEGIN:STANDARD
TZOFFSETFROM:+0200
TZOFFSETTO:+0100
TZNAME:CET
DTSTART:20251026T010000
END:STANDARD
BEGIN:DAYLIGHT
TZOFFSETFROM:+0100
TZOFFSETTO:+0200
TZNAME:CEST
DTSTART:20260329T010000
END:DAYLIGHT
BEGIN:STANDARD
TZOFFSETFROM:+0200
TZOFFSETTO:+0100
TZNAME:CET
DTSTART:20261025T010000
END:STANDARD
BEGIN:DAYLIGHT
TZOFFSETFROM:+0100
TZOFFSETTO:+0200
TZNAME:CEST
DTSTART:20270328T010000
END:DAYLIGHT
BEGIN:STANDARD
TZOFFSETFROM:+0200
TZOFFSETTO:+0100
TZNAME:CET
DTSTART:20271031T010000
END:STANDARD
END:VTIMEZONE
BEGIN:VEVENT
DTSTART;TZID=Europe/Berlin:20260602T083000
DTEND;TZID=Europe/Berlin:20260602T140000
DTSTAMP:20260421T172244
CREATED:20250904T112346Z
LAST-MODIFIED:20250904T112354Z
UID:11444-1780389000-1780408800@fbrs.de
SUMMARY:Nachschreibtermin ZP Deutsch
DESCRIPTION:
URL:https://fbrs.de/kalender/nachschreibtermin-zp-deutsch-2/
END:VEVENT
BEGIN:VEVENT
DTSTART;TZID=Europe/Berlin:20260603T083000
DTEND;TZID=Europe/Berlin:20260603T140000
DTSTAMP:20260421T172244
CREATED:20250904T112704Z
LAST-MODIFIED:20250904T112706Z
UID:11448-1780475400-1780495200@fbrs.de
SUMMARY:Nachschreibtermin ZP Englisch
DESCRIPTION:
URL:https://fbrs.de/kalender/nachschreibtermin-zp-englisch-2/
END:VEVENT
BEGIN:VEVENT
DTSTART;TZID=Europe/Berlin:20260604T000000
DTEND;TZID=Europe/Berlin:20260604T235959
DTSTAMP:20260421T172244
CREATED:20250904T112855Z
LAST-MODIFIED:20250904T112857Z
UID:11452-1780531200-1780617599@fbrs.de
SUMMARY:Feiertag Fronleichnam
DESCRIPTION:
URL:https://fbrs.de/kalender/feiertag-fronleichnam-2/
END:VEVENT
BEGIN:VEVENT
DTSTART;TZID=Europe/Berlin:20260605T000000
DTEND;TZID=Europe/Berlin:20260605T235959
DTSTAMP:20260421T172244
CREATED:20250904T112938Z
LAST-MODIFIED:20250904T112939Z
UID:11454-1780617600-1780703999@fbrs.de
SUMMARY:3. Variabler Ferientag (Brückentag)
DESCRIPTION:
URL:https://fbrs.de/kalender/3-variabler-ferientag-brueckentag/
END:VEVENT
BEGIN:VEVENT
DTSTART;TZID=Europe/Berlin:20260608T141500
DTEND;TZID=Europe/Berlin:20260608T151500
DTSTAMP:20260421T172244
CREATED:20250904T113042Z
LAST-MODIFIED:20250904T113044Z
UID:11456-1780928100-1780931700@fbrs.de
SUMMARY:AK Medien Informatikraum
DESCRIPTION:
URL:https://fbrs.de/kalender/ak-medien-informatikraum-3/
END:VEVENT
BEGIN:VEVENT
DTSTART;TZID=Europe/Berlin:20260609T083000
DTEND;TZID=Europe/Berlin:20260609T140000
DTSTAMP:20260421T172244
CREATED:20250904T113143Z
LAST-MODIFIED:20250904T113145Z
UID:11458-1780993800-1781013600@fbrs.de
SUMMARY:Nachschreibtermin ZP Mathematik
DESCRIPTION:
URL:https://fbrs.de/kalender/nachschreibtermin-zp-mathematik-2/
END:VEVENT
BEGIN:VEVENT
DTSTART;TZID=Europe/Berlin:20260609T141500
DTEND;TZID=Europe/Berlin:20260609T160000
DTSTAMP:20260421T172244
CREATED:20250904T113311Z
LAST-MODIFIED:20250904T113313Z
UID:11460-1781014500-1781020800@fbrs.de
SUMMARY:Steuergruppe Schulentwicklung
DESCRIPTION:
URL:https://fbrs.de/kalender/steuergruppe-schulentwicklung/
END:VEVENT
BEGIN:VEVENT
DTSTART;TZID=Europe/Berlin:20260615T080000
DTEND;TZID=Europe/Berlin:20260615T153000
DTSTAMP:20260421T172244
CREATED:20250904T113457Z
LAST-MODIFIED:20250904T113459Z
UID:11464-1781510400-1781537400@fbrs.de
SUMMARY:2. Schulinterne Lehrerfortbildung –Studientag– VR
DESCRIPTION:
URL:https://fbrs.de/kalender/2-schulinterne-lehrerfortbildung-studientag-vr/
END:VEVENT
BEGIN:VEVENT
DTSTART;TZID=Europe/Berlin:20260616T083000
DTEND;TZID=Europe/Berlin:20260616T140000
DTSTAMP:20260421T172244
CREATED:20250904T113548Z
LAST-MODIFIED:20250904T113550Z
UID:11466-1781598600-1781618400@fbrs.de
SUMMARY:Bekanntgabe Vor- und Prüfungsnoten ZP durch die KL
DESCRIPTION:
URL:https://fbrs.de/kalender/bekanntgabe-vor-und-pruefungsnoten-zp-durch-die-kl-2/
END:VEVENT
BEGIN:VEVENT
DTSTART;TZID=Europe/Berlin:20260616T143000
DTEND;TZID=Europe/Berlin:20260616T160000
DTSTAMP:20260421T172244
CREATED:20250904T113637Z
LAST-MODIFIED:20250904T113640Z
UID:11468-1781620200-1781625600@fbrs.de
SUMMARY:Lehrerkonferenz\, VR
DESCRIPTION:
URL:https://fbrs.de/kalender/lehrerkonferenz-vr-2/
END:VEVENT
BEGIN:VEVENT
DTSTART;TZID=Europe/Berlin:20260622T083000
DTEND;TZID=Europe/Berlin:20260626T140000
DTSTAMP:20260421T172244
CREATED:20250904T114044Z
LAST-MODIFIED:20260204T083548Z
UID:11472-1782117000-1782482400@fbrs.de
SUMMARY:Berufsfelderkundung (BFE) in Jhg. 8
DESCRIPTION:
URL:https://fbrs.de/kalender/berufsfelderkundung-bfe-in-jhg-8in-diesem-zeitraum-findet-in-jahrgang-8-kein-regulaerer-unterricht-statt-keine-lzk-ka-moeglich-bitte-fuer-noteneintragung-und-nachschreiberinnen-beruecksichtig/
END:VEVENT
BEGIN:VEVENT
DTSTART;TZID=Europe/Berlin:20260623T080000
DTEND;TZID=Europe/Berlin:20260625T140000
DTSTAMP:20260421T172244
CREATED:20250904T120322Z
LAST-MODIFIED:20250904T120324Z
UID:11480-1782201600-1782396000@fbrs.de
SUMMARY:Motto Woche Jhg 10
DESCRIPTION:
URL:https://fbrs.de/kalender/motto-woche-jhg-10/
END:VEVENT
BEGIN:VEVENT
DTSTART;TZID=Europe/Berlin:20260623T153000
DTEND;TZID=Europe/Berlin:20260623T180000
DTSTAMP:20260421T172244
CREATED:20250904T114203Z
LAST-MODIFIED:20250904T114205Z
UID:11474-1782228600-1782237600@fbrs.de
SUMMARY:Bunter Nachmittag (neue 5er)\, PZ
DESCRIPTION:
URL:https://fbrs.de/kalender/bunter-nachmittag-neue-5er-pz/
END:VEVENT
BEGIN:VEVENT
DTSTART;TZID=Europe/Berlin:20260624T080000
DTEND;TZID=Europe/Berlin:20260625T140000
DTSTAMP:20260421T172244
CREATED:20250904T120024Z
LAST-MODIFIED:20250904T120112Z
UID:11476-1782288000-1782396000@fbrs.de
SUMMARY:ZP 10 mündliche Abweichungsprüfungen ab 08:00 Uhr
DESCRIPTION:
URL:https://fbrs.de/kalender/zp-10-muendliche-abweichungspruefungen-ab-0800-uhr/
END:VEVENT
BEGIN:VEVENT
DTSTART;TZID=Europe/Berlin:20260626T083000
DTEND;TZID=Europe/Berlin:20260626T140000
DTSTAMP:20260421T172244
CREATED:20250904T120515Z
LAST-MODIFIED:20250904T120517Z
UID:11484-1782462600-1782482400@fbrs.de
SUMMARY:Letzter Schultag Jhg. 10 (Wandertag für Jhg. 10 mit KL)
DESCRIPTION:
URL:https://fbrs.de/kalender/letzter-schultag-jhg-10-wandertag-fuer-jhg-10-mit-kl/
END:VEVENT
BEGIN:VEVENT
DTSTART;TZID=Europe/Berlin:20260629T000000
DTEND;TZID=Europe/Berlin:20260703T235959
DTSTAMP:20260421T172244
CREATED:20250904T120608Z
LAST-MODIFIED:20250904T120610Z
UID:11486-1782691200-1783123199@fbrs.de
SUMMARY:Klassenfahrten 6A\, 6D
DESCRIPTION:
URL:https://fbrs.de/kalender/klassenfahrten-6a-6d/
END:VEVENT
BEGIN:VEVENT
DTSTART;TZID=Europe/Berlin:20260630T080000
DTEND;TZID=Europe/Berlin:20260702T150000
DTSTAMP:20260421T172244
CREATED:20250904T120720Z
LAST-MODIFIED:20250904T120722Z
UID:11488-1782806400-1783004400@fbrs.de
SUMMARY:BIZ-Besuch Jhg. 8 Zuordnung gem. Aushang (evtl. 6.7. statt 2.7.)
DESCRIPTION:
URL:https://fbrs.de/kalender/biz-besuch-jhg-8-zuordnung-gem-aushang-evtl-6-7-statt-2-7/
END:VEVENT
END:VCALENDAR