BEGIN:VCALENDAR
VERSION:2.0
PRODID:-//Friedrich-Bayer-Realschule - ECPv6.15.20//NONSGML v1.0//EN
CALSCALE:GREGORIAN
METHOD:PUBLISH
X-ORIGINAL-URL:https://fbrs.de
X-WR-CALDESC:Veranstaltungen für Friedrich-Bayer-Realschule
REFRESH-INTERVAL;VALUE=DURATION:PT1H
X-Robots-Tag:noindex
X-PUBLISHED-TTL:PT1H
BEGIN:VTIMEZONE
TZID:Europe/Berlin
BEGIN:DAYLIGHT
TZOFFSETFROM:+0100
TZOFFSETTO:+0200
TZNAME:CEST
DTSTART:20250330T010000
END:DAYLIGHT
BEGIN:STANDARD
TZOFFSETFROM:+0200
TZOFFSETTO:+0100
TZNAME:CET
DTSTART:20251026T010000
END:STANDARD
BEGIN:DAYLIGHT
TZOFFSETFROM:+0100
TZOFFSETTO:+0200
TZNAME:CEST
DTSTART:20260329T010000
END:DAYLIGHT
BEGIN:STANDARD
TZOFFSETFROM:+0200
TZOFFSETTO:+0100
TZNAME:CET
DTSTART:20261025T010000
END:STANDARD
BEGIN:DAYLIGHT
TZOFFSETFROM:+0100
TZOFFSETTO:+0200
TZNAME:CEST
DTSTART:20270328T010000
END:DAYLIGHT
BEGIN:STANDARD
TZOFFSETFROM:+0200
TZOFFSETTO:+0100
TZNAME:CET
DTSTART:20271031T010000
END:STANDARD
END:VTIMEZONE
BEGIN:VEVENT
DTSTART;TZID=Europe/Berlin:20260421T133500
DTEND;TZID=Europe/Berlin:20260421T133500
DTSTAMP:20260421T143541
CREATED:20250904T101425Z
LAST-MODIFIED:20260317T104621Z
UID:11402-1776778500-1776778500@fbrs.de
SUMMARY:Beratungskonferenzen
DESCRIPTION:
URL:https://fbrs.de/kalender/beratungskonferenzen-jhg-7-10-iserv-online-2/
END:VEVENT
BEGIN:VEVENT
DTSTART;TZID=Europe/Berlin:20260423T083000
DTEND;TZID=Europe/Berlin:20260423T140000
DTSTAMP:20260421T143541
CREATED:20250904T101603Z
LAST-MODIFIED:20250904T101606Z
UID:11406-1776933000-1776952800@fbrs.de
SUMMARY:„Girl’s Day“ und „Boy’s Day“ für Jhg. 8
DESCRIPTION:
URL:https://fbrs.de/kalender/girls-day-und-boys-day-fuer-jhg-8/
END:VEVENT
BEGIN:VEVENT
DTSTART;TZID=Europe/Berlin:20260428T080000
DTEND;TZID=Europe/Berlin:20260428T170000
DTSTAMP:20260421T143541
CREATED:20250904T101755Z
LAST-MODIFIED:20260204T083129Z
UID:11410-1777363200-1777395600@fbrs.de
SUMMARY:Elternsprechtag
DESCRIPTION:
URL:https://fbrs.de/kalender/elternsprechtag-10-wochen-frist/
END:VEVENT
END:VCALENDAR